BEGIN:VCALENDAR
VERSION:2.0
PRODID:-//Crescent Hill at Hitchcock - ECPv6.15.20//NONSGML v1.0//EN
CALSCALE:GREGORIAN
METHOD:PUBLISH
X-WR-CALNAME:Crescent Hill at Hitchcock
X-ORIGINAL-URL:https://explorecrescenthill.com
X-WR-CALDESC:Events for Crescent Hill at Hitchcock
REFRESH-INTERVAL;VALUE=DURATION:PT1H
X-Robots-Tag:noindex
X-PUBLISHED-TTL:PT1H
BEGIN:VTIMEZONE
TZID:UTC
BEGIN:STANDARD
TZOFFSETFROM:+0000
TZOFFSETTO:+0000
TZNAME:UTC
DTSTART:20250101T000000
END:STANDARD
END:VTIMEZONE
BEGIN:VEVENT
DTSTART;TZID=UTC:20260425T090000
DTEND;TZID=UTC:20260425T120000
DTSTAMP:20260423T121510
CREATED:20260401T151059Z
LAST-MODIFIED:20260401T151059Z
UID:10001085-1777107600-1777118400@explorecrescenthill.com
SUMMARY:Litter Busters Park Cleanup
DESCRIPTION:Follow in the footsteps of the Dump Busters\, who saved this area in the Loess Hills from becoming a dump\, by joining our annual park cleanup.\nDid you know? Crescent Hill at Hitchcock (previously Mt. Crescent Ski Area) is officially a part of the 1\,500-acre Hitchcock Nature Center preserve. In the 1980s\, the park’s Loess Hills beauty and remnant prairie systems were almost turned into a bottled water factory\, and then\, of all things\, a dump. Thankfully\, local community members came together\, put their feet down\, and fought to protect this beautiful area. They’re known as the Dump Busters! We will be forever grateful to the hundreds of community members who rallied together to save this area for generations to come. \nTogether\, we can protect the park’s special beauty and all of the species that call it home. Join our park cleanup event from 9 a.m. to 12 p.m. on Saturday\, April 25th and follow in the Dump Busters’ footsteps. \n  \nHow to Participate:\n\nCheck in at one of the stations listed below anytime between 9 a.m. and 12 p.m.\n\nVolunteers will be given a bag to collect trash in and are encouraged to bring their own if they have it. Volunteers will also have the opportunity to enter themselves in a random drawing for a free camping stay.\n\n\nHit the hill! Enjoy a rejuvenating outdoor adventure while gathering any litter you come across along the way.\nWhen finished\, head to a check-out station to weigh and record your findings\, take a Litter Buster selfie\, and help sort any recyclables. Send your selfies to pottconservation@pottcounty-ia.gov or tag Hitchcock Nature Center or Crescent Hill at Hitchcock (previously Mt. Crescent) on Facebook\, Instagram\, or Twitter!\n\n  \nCheck-In Stations:\nPlease feel free to check in at either location listed below. We encourage visitors to check out before they leave so they can return any borrowed materials and weigh\, toss\, and recycle their findings. We keep track of how much litter is weighed to better understand the impacts of visitors on the park. \n\nSki Lodge at Crescent Hill at Hitchcock (previously Mt. Crescent Ski Area)\nLoess Hills Lodge at Hitchcock Nature Center\n\n  \nWhat to Bring & Wear:\nWe recommend bringing: \n\nA pair of protective gloves (this could be an old pair of winter gloves or work gloves)\nA trash bag (bags will also be made available at check-in)\n\nWe recommend wearing: \n\nLayers (it’s often a few degrees cooler at the park\, and windy)\nTall socks\nGood hiking shoes or boots\nSun protection\n\nWe know our visitors have the best intentions and do all they can to protect their natural areas. We appreciate anyone willing to help pick up litter along trails while they enjoy some quality time with Mother Nature! \n  \nRefreshments will be provided for volunteers as a thank you for their efforts.
URL:https://explorecrescenthill.com/event/litter-busters-park-cleanup/
CATEGORIES:Volunteer Event
ATTACH;FMTTYPE=image/jpeg:https://explorecrescenthill.com/wp-content/uploads/2026/04/Jzjs0777-scaled.jpg
END:VEVENT
END:VCALENDAR